BEGIN:VCALENDAR
VERSION:2.0
PRODID:-//Bridget of Sweden Parish - ECPv6.15.20//NONSGML v1.0//EN
CALSCALE:GREGORIAN
METHOD:PUBLISH
X-WR-CALNAME:Bridget of Sweden Parish
X-ORIGINAL-URL:https://cheshirecatholic.org
X-WR-CALDESC:Events for Bridget of Sweden Parish
REFRESH-INTERVAL;VALUE=DURATION:PT1H
X-Robots-Tag:noindex
X-PUBLISHED-TTL:PT1H
BEGIN:VTIMEZONE
TZID:America/Halifax
BEGIN:DAYLIGHT
TZOFFSETFROM:-0400
TZOFFSETTO:-0300
TZNAME:ADT
DTSTART:20250309T060000
END:DAYLIGHT
BEGIN:STANDARD
TZOFFSETFROM:-0300
TZOFFSETTO:-0400
TZNAME:AST
DTSTART:20251102T050000
END:STANDARD
BEGIN:DAYLIGHT
TZOFFSETFROM:-0400
TZOFFSETTO:-0300
TZNAME:ADT
DTSTART:20260308T060000
END:DAYLIGHT
BEGIN:STANDARD
TZOFFSETFROM:-0300
TZOFFSETTO:-0400
TZNAME:AST
DTSTART:20261101T050000
END:STANDARD
BEGIN:DAYLIGHT
TZOFFSETFROM:-0400
TZOFFSETTO:-0300
TZNAME:ADT
DTSTART:20270314T060000
END:DAYLIGHT
BEGIN:STANDARD
TZOFFSETFROM:-0300
TZOFFSETTO:-0400
TZNAME:AST
DTSTART:20271107T050000
END:STANDARD
END:VTIMEZONE
BEGIN:VEVENT
DTSTART;TZID=America/Halifax:20260311T190000
DTEND;TZID=America/Halifax:20260311T200000
DTSTAMP:20260419T100530
CREATED:20260302T013822Z
LAST-MODIFIED:20260322T203852Z
UID:10000007-1773255600-1773259200@cheshirecatholic.org
SUMMARY:Illuminated Pro Life Rosary & Baby Shower!
DESCRIPTION:Illuminated Pro Life Rosary & Baby Shower!\nDate: Monday\, March 11th\, 2026 \nTime: \n\nRosary at 7:00 p.m. in St. Bridget Church\nBaby Shower at 7:30 p.m. in the Parish Center\n\nLocation: \n\nSt. Bridget Church for Rosary\nParish Center for Baby Shower\n\nHosted by:\nSt. Bridget of Sweden Women’s Society\nTo benefit Carolyn’s Place and Hope For Life \nPlease bring gifts from sizes newborn to 24 months.\nRefreshments will be provided. \nFor more information\, contact:\nMarge Palmeri\nEmail: margaretpalmeri@yahoo.com
URL:https://cheshirecatholic.org/event/illuminated-pro-life-rosary-baby-shower/
CATEGORIES:Upcoming Events
ATTACH;FMTTYPE=image/avif:https://cheshirecatholic.org/wp-content/uploads/2026/03/Pro-Life-Rosary-e1774216793619.avif
END:VEVENT
BEGIN:VEVENT
DTSTART;TZID=America/Halifax:20260316T190000
DTEND;TZID=America/Halifax:20260316T200000
DTSTAMP:20260419T100530
CREATED:20260322T221228Z
LAST-MODIFIED:20260322T221228Z
UID:10001947-1773687600-1773691200@cheshirecatholic.org
SUMMARY:Theology on Tap
DESCRIPTION:Join us for different topics of discussion at: \n​ \nIl Gusto Italian Restaurant \n286 Maple Ave \nCheshire 06410 \n\nPlease call ahead to reserve seating! \n(203) 806-1560
URL:https://cheshirecatholic.org/event/theology-on-tap/
CATEGORIES:Upcoming Events
ATTACH;FMTTYPE=image/avif:https://cheshirecatholic.org/wp-content/uploads/2026/03/Theology-on-Tap-e1774217514893.avif
END:VEVENT
BEGIN:VEVENT
DTSTART;TZID=America/Halifax:20260325T183000
DTEND;TZID=America/Halifax:20260325T203000
DTSTAMP:20260419T100530
CREATED:20260322T224915Z
LAST-MODIFIED:20260322T225241Z
UID:10001950-1774463400-1774470600@cheshirecatholic.org
SUMMARY:Reel of Hope
DESCRIPTION:Monthly Faith Movie Night! \nJoin us for a Lenten movie. It’s the ultimate preparation for Holy Week!
URL:https://cheshirecatholic.org/event/reel-of-hope/
CATEGORIES:Upcoming Events
ATTACH;FMTTYPE=image/png:https://cheshirecatholic.org/wp-content/uploads/2026/03/Reel-of-Hope-e1774219673896.png
END:VEVENT
BEGIN:VEVENT
DTSTART;VALUE=DATE:20260328
DTEND;VALUE=DATE:20260330
DTSTAMP:20260419T100530
CREATED:20260322T231706Z
LAST-MODIFIED:20260323T002717Z
UID:10002011-1774656000-1774828799@cheshirecatholic.org
SUMMARY:Corporal Works of Mercy - Visit the Imprisoned
DESCRIPTION:Monetary collection to provide resources to Chaplain at Cheshire Prison.
URL:https://cheshirecatholic.org/event/corporal-works-of-mercy-visit-the-imprisoned/
CATEGORIES:Upcoming Events
ATTACH;FMTTYPE=image/png:https://cheshirecatholic.org/wp-content/uploads/2026/03/Visit-the-Imprisoned-2-e1774225631561.png
END:VEVENT
BEGIN:VEVENT
DTSTART;TZID=America/Halifax:20260328T110000
DTEND;TZID=America/Halifax:20260328T150000
DTSTAMP:20260419T100530
CREATED:20260322T230918Z
LAST-MODIFIED:20260322T233843Z
UID:10001952-1774695600-1774710000@cheshirecatholic.org
SUMMARY:3 on 3 Basketball Tournament
DESCRIPTION:Get ready for some fast-paced action at the 3-on-3 Basketball Tournament on Saturday\, March 28th from 11 AM to 3 PM at the St. Bridget School Gym! Open to boys\, girls\, and co-ed teams in grades 5–8\, this exciting event is a great way to showcase your skills and have fun with friends. Teams of three can register for $30\, with all proceeds supporting the parish Mission Trip. Gather your team and join the competition for a great cause!
URL:https://cheshirecatholic.org/event/3-on-3-basketball-tournament/
CATEGORIES:Upcoming Events
ATTACH;FMTTYPE=image/png:https://cheshirecatholic.org/wp-content/uploads/2026/03/3-on-3-Basketball-e1774220926673.png
END:VEVENT
BEGIN:VEVENT
DTSTART;TZID=America/Halifax:20260329T113000
DTEND;TZID=America/Halifax:20260329T150000
DTSTAMP:20260419T100530
CREATED:20260322T230247Z
LAST-MODIFIED:20260323T002609Z
UID:10001951-1774783800-1774796400@cheshirecatholic.org
SUMMARY:Annual Egg Hunt And Brunch
DESCRIPTION:Join us for a fun-filled day at the Annual Egg Hunt & Brunch hosted by St. Bridget of Sweden Parish & School on Sunday\, March 29\, 2026! Families are invited to enjoy a delicious brunch\, meet the Easter Bunny\, and take part in an exciting Easter egg hunt (weather permitting). The event will also feature fun activities\, raffles\, and prizes for all ages. Brunch will be served from 11:30 AM to 1:15 PM\, followed by the egg hunt at 1:00 PM and raffle drawings at 1:15 PM. Don’t forget to bring your Easter basket! Tickets are $10 per person\, and children under 2 attend for free. RSVP by March 25th—we hope to see you there!
URL:https://cheshirecatholic.org/event/annual-egg-hunt-and-brunch/
CATEGORIES:Upcoming Events
ATTACH;FMTTYPE=image/png:https://cheshirecatholic.org/wp-content/uploads/2026/03/Egg-Hunt-and-Brunch-2-e1774225562891.png
END:VEVENT
END:VCALENDAR